BEGIN:VCALENDAR
VERSION:2.0
PRODID:-//Le Pari de Lacan - ECPv5.2.0//NONSGML v1.0//EN
CALSCALE:GREGORIAN
METHOD:PUBLISH
X-WR-CALNAME:Le Pari de Lacan
X-ORIGINAL-URL:https://www.leparidelacan.fr
X-WR-CALDESC:évènements pour Le Pari de Lacan
BEGIN:VTIMEZONE
TZID:Europe/Paris
BEGIN:DAYLIGHT
TZOFFSETFROM:+0100
TZOFFSETTO:+0200
TZNAME:CEST
DTSTART:20260329T010000
END:DAYLIGHT
BEGIN:STANDARD
TZOFFSETFROM:+0200
TZOFFSETTO:+0100
TZNAME:CET
DTSTART:20261025T010000
END:STANDARD
END:VTIMEZONE
BEGIN:VEVENT
DTSTART;TZID=Europe/Paris:20260125T203000
DTEND;TZID=Europe/Paris:20260125T220000
DTSTAMP:20260422T040549
CREATED:20260115T090946Z
LAST-MODIFIED:20260115T090946Z
UID:4729-1769373000-1769378400@www.leparidelacan.fr
SUMMARY:LABORATOIRE DE LECTURE DES TEXTES LACANIENS
DESCRIPTION:7eme année. 2025-2026 Année consacrée à Pierre Bruno. \nA’ semestre : Lecture et analyse de  L’ INVENTION DU SYMPTÔME /LACAN PASSEUR DE MARX \, dont je suis la traductrice en grec \n\nB’semestre ARTAUD.CLINIQUE ET POESIE . \n\nRencontres bimensuels ; toujours Dimanche à 20.30 via zoom. \nNOTRE PROCHAINE RENCONTRE 25/1/26 . \nPour s inscrire contacter Ada Klampatsea email: musidoraada@gmail.com  ou au messenger Aντα Κλαμπατσέα (fb) \n\n\n\n\n\n\n\n\n\n\n\n\n\n\n\n\nΑντα Κλαμπατσέα (@musidoraada)
URL:https://www.leparidelacan.fr/event/laboratoire-de-lecture-des-textes-lacaniens/
LOCATION:Visioconférence\, France
CATEGORIES:Séminaire
END:VEVENT
END:VCALENDAR