BEGIN:VCALENDAR
VERSION:2.0
PRODID:-//Le Pari de Lacan - ECPv5.2.0//NONSGML v1.0//EN
CALSCALE:GREGORIAN
METHOD:PUBLISH
X-WR-CALNAME:Le Pari de Lacan
X-ORIGINAL-URL:https://www.leparidelacan.fr
X-WR-CALDESC:évènements pour Le Pari de Lacan
BEGIN:VTIMEZONE
TZID:Europe/Paris
BEGIN:DAYLIGHT
TZOFFSETFROM:+0100
TZOFFSETTO:+0200
TZNAME:CEST
DTSTART:20250330T010000
END:DAYLIGHT
BEGIN:STANDARD
TZOFFSETFROM:+0200
TZOFFSETTO:+0100
TZNAME:CET
DTSTART:20251026T010000
END:STANDARD
END:VTIMEZONE
BEGIN:VEVENT
DTSTART;TZID=Europe/Paris:20251004T103000
DTEND;TZID=Europe/Paris:20251004T120000
DTSTAMP:20260421T231714
CREATED:20251003T164410Z
LAST-MODIFIED:20251003T170455Z
UID:4524-1759573800-1759579200@www.leparidelacan.fr
SUMMARY:Matinées cliniques d'Auch
DESCRIPTION:Imprimer ou télécharger le texteLa première aura lieu le samedi 4 octobre de 10h30 à 12h à la librairie « les petits papiers » autour du livre de Guillaume Nemer « HLM » dont nous parlera Jean-Pierre Sperandeo.
URL:https://www.leparidelacan.fr/event/matinees-cliniques-dauch/
LOCATION:Librairie Les petits papiers\, 22 Rue Dessoles\, Auch\, 32000\, France
CATEGORIES:Activités dans le Gers
END:VEVENT
END:VCALENDAR