BEGIN:VCALENDAR
VERSION:2.0
PRODID:-//Le Pari de Lacan - ECPv5.2.0//NONSGML v1.0//EN
CALSCALE:GREGORIAN
METHOD:PUBLISH
X-WR-CALNAME:Le Pari de Lacan
X-ORIGINAL-URL:https://www.leparidelacan.fr
X-WR-CALDESC:évènements pour Le Pari de Lacan
BEGIN:VTIMEZONE
TZID:Europe/Paris
BEGIN:DAYLIGHT
TZOFFSETFROM:+0100
TZOFFSETTO:+0200
TZNAME:CEST
DTSTART:20250330T010000
END:DAYLIGHT
BEGIN:STANDARD
TZOFFSETFROM:+0200
TZOFFSETTO:+0100
TZNAME:CET
DTSTART:20251026T010000
END:STANDARD
END:VTIMEZONE
BEGIN:VEVENT
DTSTART;TZID=Europe/Paris:20251206T103000
DTEND;TZID=Europe/Paris:20251206T160000
DTSTAMP:20260422T144323
CREATED:20250923T050042Z
LAST-MODIFIED:20251211T214113Z
UID:4492-1765017000-1765036800@www.leparidelacan.fr
SUMMARY:LES RENCONTRES DU PARI DE LACAN À TOULOUSE
DESCRIPTION:Imprimer ou télécharger le texteLe matin de 10h30 – 12h30 :  « Politique◇Psychanalyse » coordonné par Véronique Bonnet\, Rémi Brassié\, Carole Diaz\, Ines Lassagne\, Dimitris Sakellariou\, Skevi Sakellariou et Marie-Jean Sauret. \nEn raison de l’actualité autour de l’amendement 159\, nous envisageons d’organiser la matinée comme temps d’échange autour de ce que cet amendement pose comme questions politiques. Nous reviendrons rapidement vers vous pour vous annoncer le programme. \n Annonce et proposition du collectif politique◇psychanalyse \nDans la suite du travail de l’an passé et à partir de la discussion de l’exposé de Hadassah RIBOH\, nous proposons cette année de constituer de petits groupes de travail dont la vocation\, à l’instar des supervisions d’équipe serait de parler du travail (clinique\, éducatif\, d’enseignement) dans les institutions\, des difficultés qu’y rencontrent ceux qui s’orientent avec la psychanalyse mais aussi des solutions que chacun invente pour y soutenir une existence possible pour la subjectivité. Ces petits groupes pourraient s’inspirer du cartel et faire appel à un supplémentaire\, et se donner pour horizon de transmettre quelque chose de leurs travaux à l’assemblée des samedis matin. Nous prendrons le temps de discuter de cette proposition mais chacun peut déjà faire savoir ses intentions de travail en adressant un mail à remi.brassie@gmail.com. \nL’après-midi :    de 14h – 16 h : l’Atelier coordonné par Fabienne Guillen :  Le « choix » du sexe (Dés-orientation sexuelle) \nChristian FIERENS (psychanalyste à Tervuren\, près de Bruxelles) interviendra sous le titre : « Le choix de la jouissance » \nArgument : Choisir implique la perspective de la jouissance plus que du plaisir. En partant du principe de jouissance\, la sexualité prend forme\, trouve sa place et commence à fonctionner. \nde 16h -18h \nPrésentation du dernier livre de Christian FIERENS : \n« Un autre commencement pour la psychanalyse  \nUne nouvelle lecture du séminaire Encore de Lacan » \nNicole MOISSINAC\, Dimitris SAKELLARIOU et Freddy GUILLOTEAU discuteront les idées qui émergent de cet ouvrage paru aux Éditions EME dans la collection Lire en Psychanalyse. \nENTREE LIBRE  \n   
URL:https://www.leparidelacan.fr/event/les-rencontres-du-pari-de-lacan-a-toulouse-16/
LOCATION:Salle du Sénéchal à Toulouse\, 17 Rue de Rémusat\, Toulouse\, 31000\, France
CATEGORIES:Activités en Haute-Garonne,Rencontres du Pari
ATTACH;FMTTYPE=image/jpeg:https://www.leparidelacan.fr/wp-content/uploads/affiche-PDL-Toulouse-25-26.jpg
END:VEVENT
END:VCALENDAR