BEGIN:VCALENDAR
VERSION:2.0
PRODID:-//Le Pari de Lacan - ECPv5.2.0//NONSGML v1.0//EN
CALSCALE:GREGORIAN
METHOD:PUBLISH
X-WR-CALNAME:Le Pari de Lacan
X-ORIGINAL-URL:https://www.leparidelacan.fr
X-WR-CALDESC:évènements pour Le Pari de Lacan
BEGIN:VTIMEZONE
TZID:Europe/Paris
BEGIN:DAYLIGHT
TZOFFSETFROM:+0100
TZOFFSETTO:+0200
TZNAME:CEST
DTSTART:20250330T010000
END:DAYLIGHT
BEGIN:STANDARD
TZOFFSETFROM:+0200
TZOFFSETTO:+0100
TZNAME:CET
DTSTART:20251026T010000
END:STANDARD
END:VTIMEZONE
BEGIN:VEVENT
DTSTART;TZID=Europe/Paris:20251119T200000
DTEND;TZID=Europe/Paris:20251119T220000
DTSTAMP:20260422T084428
CREATED:20251003T165117Z
LAST-MODIFIED:20251003T165117Z
UID:4528-1763582400-1763589600@www.leparidelacan.fr
SUMMARY:Lectures croisées J.Lacan - Les formations de l'insconscient (1957-1958)
DESCRIPTION:Imprimer ou télécharger le texteLes formations de l’inconscient\, Séminaire V- Jacques Lacan \nNous aborderons cette année la lecture de ce séminaire qui traite du sujet dans ses embarras ce qui en est\npeut-être la meilleure représentation\, faute de définition\, puisqu’il est difficile à appréhender et plutôt à\nmettre en question. \nLe séminaire 5\, pour rester dans la veine des premiers séminaires de Lacan\, nous a\nsemblé approprié pour reprendre\, poursuivre notre introduction à ce que peut être l’élaboration de la\npsychanalyse\, à travers la clinique freudienne et quelques autres vignettes introduites par Lacan. On n’est\npas freudien ou lacanien : leur socle commun est l’inconscient\, ce que je sais sans le savoir.\nPour prendre en compte les remarques faites à l’issue de notre première année de travail\, il n’y aura\nqu’une intervention pour croiser les échanges entre nous et avec la salle (avec vous). \nElisabeth Rigal\, Anne Tollis\, Jessica Arduin. \ncontact : elisabeth.rigal6@orange.fr
URL:https://www.leparidelacan.fr/event/lectures-croisees-j-lacan-les-formations-de-linsconscient-1957-1958/
LOCATION:Librairie La Préface\, 35-37 allée du Rouergue\, Colomiers\, 31770\, France
CATEGORIES:Activités en Haute-Garonne
ATTACH;FMTTYPE=image/png:https://www.leparidelacan.fr/wp-content/uploads/Affiche.colomiers.png
ORGANIZER;CN="Elisabeth%20Rigal":MAILTO:elisabeth.rigal6@orange.fr
END:VEVENT
END:VCALENDAR