BEGIN:VCALENDAR
VERSION:2.0
PRODID:-//Le Pari de Lacan - ECPv5.2.0//NONSGML v1.0//EN
CALSCALE:GREGORIAN
METHOD:PUBLISH
X-WR-CALNAME:Le Pari de Lacan
X-ORIGINAL-URL:https://www.leparidelacan.fr
X-WR-CALDESC:évènements pour Le Pari de Lacan
BEGIN:VTIMEZONE
TZID:Europe/Paris
BEGIN:DAYLIGHT
TZOFFSETFROM:+0100
TZOFFSETTO:+0200
TZNAME:CEST
DTSTART:20250330T010000
END:DAYLIGHT
BEGIN:STANDARD
TZOFFSETFROM:+0200
TZOFFSETTO:+0100
TZNAME:CET
DTSTART:20251026T010000
END:STANDARD
END:VTIMEZONE
BEGIN:VEVENT
DTSTART;TZID=Europe/Paris:20251114T200000
DTEND;TZID=Europe/Paris:20251114T220000
DTSTAMP:20260422T023739
CREATED:20251003T173629Z
LAST-MODIFIED:20251020T055100Z
UID:4543-1763150400-1763157600@www.leparidelacan.fr
SUMMARY:Groupe Paris Île-de-France
DESCRIPTION:Imprimer ou télécharger le texteLe Groupe Paris Ile-de- France se réunit les vendredis précédents les Rencontres du \nPARI\, de 20h à 22h environ\, à l’USIC. \nC’est un groupe ouvert\, qui peut utiliser la visio\, il est animé par Laure Thibaudeau.\nLe travail du groupe s’appuie sur la lecture d’un texte. Le travail reprendra en 2025 \navec EGO ET MOI de Pierre Bruno et Marie-Jean Sauret.
URL:https://www.leparidelacan.fr/event/groupe-paris-ile-de-france-5/
LOCATION:USIC\, 18 rue de Varenne\, Paris\, 75007\, France
CATEGORIES:Activités en Ile de France
ORGANIZER;CN="Laure%20Thibaudeau":MAILTO:laurthib@gmail.com
END:VEVENT
END:VCALENDAR